BEGIN:VCALENDAR
VERSION:2.0
PRODID:-//Portailcoop - ECPv6.15.20//NONSGML v1.0//EN
CALSCALE:GREGORIAN
METHOD:PUBLISH
X-ORIGINAL-URL:https://portailcoop.educagri.fr
X-WR-CALDESC:Évènements pour Portailcoop
REFRESH-INTERVAL;VALUE=DURATION:PT1H
X-Robots-Tag:noindex
X-PUBLISHED-TTL:PT1H
BEGIN:VTIMEZONE
TZID:Europe/Paris
BEGIN:DAYLIGHT
TZOFFSETFROM:+0100
TZOFFSETTO:+0200
TZNAME:CEST
DTSTART:20250330T010000
END:DAYLIGHT
BEGIN:STANDARD
TZOFFSETFROM:+0200
TZOFFSETTO:+0100
TZNAME:CET
DTSTART:20251026T010000
END:STANDARD
BEGIN:DAYLIGHT
TZOFFSETFROM:+0100
TZOFFSETTO:+0200
TZNAME:CEST
DTSTART:20260329T010000
END:DAYLIGHT
BEGIN:STANDARD
TZOFFSETFROM:+0200
TZOFFSETTO:+0100
TZNAME:CET
DTSTART:20261025T010000
END:STANDARD
BEGIN:DAYLIGHT
TZOFFSETFROM:+0100
TZOFFSETTO:+0200
TZNAME:CEST
DTSTART:20270328T010000
END:DAYLIGHT
BEGIN:STANDARD
TZOFFSETFROM:+0200
TZOFFSETTO:+0100
TZNAME:CET
DTSTART:20271031T010000
END:STANDARD
END:VTIMEZONE
BEGIN:VEVENT
DTSTART;TZID=Europe/Paris:20260401T084500
DTEND;TZID=Europe/Paris:20260401T130000
DTSTAMP:20260420T132558
CREATED:20260325T162224Z
LAST-MODIFIED:20260325T162224Z
UID:30939-1775033100-1775048400@portailcoop.educagri.fr
SUMMARY:Conférence ALIMENTERRE - "Genre et agriculture"
DESCRIPTION:Dans le cadre de la Formation ALIMENTERRE 2026\, le Comité Français pour la Solidarité Internationale (CFSI) et la Direction générale de l’enseignement et de la recherche (DGER) du Ministère de l’Agriculture\, de l’Agroalimentaire et de la Souveraineté alimentaire vous invitent à une matinée de conférences ouverte au public sur le Genre et l’Agriculture.\nConférences : “Genre et agriculture – regards France et international”\nMercredi 1er avril 2026 à Marseille\n8h45 – 13h \nLieu : Labofriche – 41 rue Jobin\, 13003 Marseille\nOuvert au public\, sur inscription \nCette matinée portera sur les enjeux liés au genre dans les systèmes agricoles\, en croisant des perspectives françaises et internationales. \nPour les inscriptions en présentiel (Marseille) : S’inscrire aux conférences ALIMENTERRE 2026 \nParticipation à distance (visio) : Inscription Zoom (visio) \n🕘 Programme \n\n8h45 : Accueil\n9h00 : Début des conférences\n\nConférence 1 :\nRegards croisés : paysannes des Suds engagées pour une agroécologie féministe au quotidien\, et leurs échos à des contextes agricoles et alimentaires français autour des questions de genre \n\nMélanie Antin\, Chaire UNESCO Alimentations du monde\, doctorante en socio-anthropologie (Université Paris Cité – LADYSS)\nHélène Guétat-Bernard\, professeure de sociologie (Ministère de l’agriculture\, ENSFEA\, LISST – Dynamiques rurales\, ATECOPOL Toulouse\, réseau Arpège)\n\nConférence 2 :\nCe que les ouvrières agricoles nous disent du genre en agriculture : les travailleuses migrantes dans l’agriculture en France\, notamment en Provence \n\nBéatrice Mésini (CNRS – TELEMMe)\nEmmanuelle Hellio (Aix-Marseille Université)\n\n 13h : Fin des conférences\n Les interventions seront suivies d’un temps d’échanges avec la salle. \nCette matinée s’inscrit dans la formation annuelle ALIMENTERRE\, organisée par le CFSI\, le réseau Éducation à la Citoyenneté et à la Solidarité Internationale (RED) de la DGER/BRECI et l’Institut Agro – Campus de Florac. \nElle réunit notamment des associations coordinatrices du Festival ALIMENTERRE et des agents de l’enseignement agricole public et privé \n\n\n\n\nLe CFSI propose des outils pédagogiques à destination des acteurs de la formation\, de l’éducation et de la sensibilisation qui partagent les messages d’ALIMENTERRE. Un kit de 16 fiches thématiques\, régulièrement actualisées\, permettent de saisir : les principaux enjeux\, les leviers pour faire changer les choses\, des conseils pour préparer le débat. Pour en savoir plus sur Genre et Agriculture\, télécharger la fiche thématique d’Alimenterre \n\n\n\nNous vous invitons à relayer largement cette invitation\, pour ce temps fort de réflexion et d’échanges. \nCrédit Photo de tête : Marche des femmes à Brasilia le 14 août 2019 © World Rural Forum [Site CFSI-ALIMENTERRE] \nContact : Dr. PhD Julien AMOURET\, Animateur réseau RED – ECSI et Animateur réseau Ukraine de l’enseignement agricole\, julien.amouret@educagri.fr
URL:https://portailcoop.educagri.fr/event/conference-alimenterre-genre-et-agriculture/
CATEGORIES:Conférence
ATTACH;FMTTYPE=image/png:https://portailcoop.educagri.fr/wp-content/uploads/2026/03/Genre-femmeAgriculture_ALIMENTERRE-e1774455610273.png
END:VEVENT
END:VCALENDAR