BEGIN:VCALENDAR
VERSION:2.0
PRODID:-//Portailcoop - ECPv6.15.20//NONSGML v1.0//EN
CALSCALE:GREGORIAN
METHOD:PUBLISH
X-WR-CALNAME:Portailcoop
X-ORIGINAL-URL:https://portailcoop.educagri.fr
X-WR-CALDESC:Évènements pour Portailcoop
REFRESH-INTERVAL;VALUE=DURATION:PT1H
X-Robots-Tag:noindex
X-PUBLISHED-TTL:PT1H
BEGIN:VTIMEZONE
TZID:Europe/Paris
BEGIN:DAYLIGHT
TZOFFSETFROM:+0100
TZOFFSETTO:+0200
TZNAME:CEST
DTSTART:20240331T010000
END:DAYLIGHT
BEGIN:STANDARD
TZOFFSETFROM:+0200
TZOFFSETTO:+0100
TZNAME:CET
DTSTART:20241027T010000
END:STANDARD
BEGIN:DAYLIGHT
TZOFFSETFROM:+0100
TZOFFSETTO:+0200
TZNAME:CEST
DTSTART:20250330T010000
END:DAYLIGHT
BEGIN:STANDARD
TZOFFSETFROM:+0200
TZOFFSETTO:+0100
TZNAME:CET
DTSTART:20251026T010000
END:STANDARD
BEGIN:DAYLIGHT
TZOFFSETFROM:+0100
TZOFFSETTO:+0200
TZNAME:CEST
DTSTART:20260329T010000
END:DAYLIGHT
BEGIN:STANDARD
TZOFFSETFROM:+0200
TZOFFSETTO:+0100
TZNAME:CET
DTSTART:20261025T010000
END:STANDARD
BEGIN:DAYLIGHT
TZOFFSETFROM:+0100
TZOFFSETTO:+0200
TZNAME:CEST
DTSTART:20270328T010000
END:DAYLIGHT
BEGIN:STANDARD
TZOFFSETFROM:+0200
TZOFFSETTO:+0100
TZNAME:CET
DTSTART:20271031T010000
END:STANDARD
END:VTIMEZONE
BEGIN:VEVENT
DTSTART;VALUE=DATE:20251030
DTEND;VALUE=DATE:20260401
DTSTAMP:20260423T112801
CREATED:20251030T172504Z
LAST-MODIFIED:20251030T172504Z
UID:29576-1761782400-1775001599@portailcoop.educagri.fr
SUMMARY:Concours - Unie dans la citoyenneté
DESCRIPTION:« Unie dans la citoyenneté » – Le concours scolaire du Mouvement Européen – France\nCandidatez d’octobre 2025 à mars 2026\nLe Mouvement Européen – France relance un concours scolaire emblématique\, avec une nouvelle édition pour l’année 2025-2026\, afin d’offrir l’opportunité aux élèves de s’approprier les clés de la citoyenneté européenne\, des valeurs et des droits fondamentaux qui y sont liés. \nObjectif : Sensibiliser les élèves aux enjeux européens et à stimuler leur engagement citoyen d’une façon créative et artistique\nPrix pour le lauréat : Un voyage à Strasbourg pour visiter le parlement européen et rencontrer les acteurs de l’Europe\nThème de l’édition 2025-26 : Protection des droits humains en Europe\, à l’occasion des 25 ans de la Charte européenne des droits fondamentaux et des 75 ans de la Convention européenne des droits de l’Homme.\nQuel public ? Élèves de quatrième\, troisième et seconde\, ouvert aux lycées de l’enseignement agricole\nCe concours constitue une occasion de valoriser les initiatives des élèves des lycées agricoles autour des grands enjeux européens\, de renforcer les liens entre la formation agricole et la citoyenneté européenne\, tout en offrant aux jeunes des espaces d’expression et de créativité. Les élèves seront invités à explorer leurs droits\, les institutions chargées de les protéger et la manière dont ces textes façonnent l’Europe d’aujourd’hui. Ils pourront s’exprimer sous des formats variés (affiches\, vidéos\, podcasts\, poèmes\, textes\, etc.) et réaliser leurs productions artistiques dans le cadre de la classe. \nEn savoir plus sur le concours\, feuilletez la plaquette \nPlus qu’une session d’information pour les équipes participantes : Le 25 novembre à 18h\, si vous êtes un·e enseignant·e intéressé·e par la présentation du kit pédagogique. \n s’inscrire à la session d’information  \nLe Mouvement Européen – France\, association reconnue d’intérêt général\, œuvre depuis plus de 75 ans pour la promotion de la citoyenneté européenne et la diffusion des valeurs de l’Union européenne auprès de tous les publics\, en particulier des jeunes générations. Ses membres déploient partout sur le territoire leurs activités d’éducation civique européenne\, d’animation du débat public sur l’Europe\, de dialogue entre les citoyens et les décideurs\, de participation à la construction d’une Europe unie et de propositions pour améliorer le projet européen.
URL:https://portailcoop.educagri.fr/event/concours-unie-dans-la-citoyennete/
CATEGORIES:Concours/Prix/Festival
ATTACH;FMTTYPE=image/png:https://portailcoop.educagri.fr/wp-content/uploads/2025/10/ConcourSCOMouvementEuropeen_illustration.png
ORGANIZER;CN="Mouvement Europ%C3%A9en - France":MAILTO:concours-scolaire@mouvement-europeen.eu
END:VEVENT
END:VCALENDAR