BEGIN:VCALENDAR
VERSION:2.0
PRODID:-//Portailcoop - ECPv6.15.20//NONSGML v1.0//EN
CALSCALE:GREGORIAN
METHOD:PUBLISH
X-ORIGINAL-URL:https://portailcoop.educagri.fr
X-WR-CALDESC:Évènements pour Portailcoop
REFRESH-INTERVAL;VALUE=DURATION:PT1H
X-Robots-Tag:noindex
X-PUBLISHED-TTL:PT1H
BEGIN:VTIMEZONE
TZID:Europe/Paris
BEGIN:DAYLIGHT
TZOFFSETFROM:+0100
TZOFFSETTO:+0200
TZNAME:CEST
DTSTART:20240331T010000
END:DAYLIGHT
BEGIN:STANDARD
TZOFFSETFROM:+0200
TZOFFSETTO:+0100
TZNAME:CET
DTSTART:20241027T010000
END:STANDARD
BEGIN:DAYLIGHT
TZOFFSETFROM:+0100
TZOFFSETTO:+0200
TZNAME:CEST
DTSTART:20250330T010000
END:DAYLIGHT
BEGIN:STANDARD
TZOFFSETFROM:+0200
TZOFFSETTO:+0100
TZNAME:CET
DTSTART:20251026T010000
END:STANDARD
BEGIN:DAYLIGHT
TZOFFSETFROM:+0100
TZOFFSETTO:+0200
TZNAME:CEST
DTSTART:20260329T010000
END:DAYLIGHT
BEGIN:STANDARD
TZOFFSETFROM:+0200
TZOFFSETTO:+0100
TZNAME:CET
DTSTART:20261025T010000
END:STANDARD
END:VTIMEZONE
BEGIN:VEVENT
DTSTART;TZID=Europe/Paris:20250312T140000
DTEND;TZID=Europe/Paris:20250312T160000
DTSTAMP:20260423T004641
CREATED:20250228T150542Z
LAST-MODIFIED:20250228T151449Z
UID:26619-1741788000-1741795200@portailcoop.educagri.fr
SUMMARY:WEBINAFRICA Cameroun
DESCRIPTION:Rejoignez-nous en ligne le 12 mars 2025 pour découvrir et échanger avec les principaux acteurs et principales actrices de la coopération internationale avec le Cameroun  !\nLe réseau AOAC de l’enseignement agricole vous propose un WEBINAFRICA avec le Cameroun\, connectez-vous de 14h à 16h.\nAprès les présentations institutionnelles avec les acteurs et actrices principales de la coopération internationale au Cameroun\, nous ferons le tour des projets par établissements. \nSoyez tous et toutes les bienvenues ! \nComment se connecter : \n\nWEBINAFRICA CAMEROUN / Heure: 12 mars 2025 14:00 Paris /Participer à la réunion Zoom\nhttps://us02web.zoom.us/j/82015096029 \nID de réunion: 820 1509 6029 / Code secret: NUa7ry \nUne seule pression sur l’appareil mobile\n+33170379729\,\,82015096029#\,\,\,\,*750278# France /+33170950103\,\,82015096029#\,\,\,\,*750278# France \nComposez un numéro en fonction de votre emplacement\n• +33 1 7037 9729 France / • +33 1 7095 0103 France / • +33 1 7095 0350 France / • +33 1 8699 5831 France / • +33 1 7037 2246 France / ID de réunion: 820 1509 6029 / Code secret: 750278 \nPour toutes questions\, n’hésitez pas à contacter les animateur et animatrice du réseau AOAC : Vanessa Forsans et William Gex\, vanessa.forsans@educagri.fr\, william.gex@educagri.fr
URL:https://portailcoop.educagri.fr/event/webinafrica-cameroun/
CATEGORIES:Webinaire
ATTACH;FMTTYPE=image/png:https://portailcoop.educagri.fr/wp-content/uploads/2025/02/Bandeau-WebinAfrica-Cameroun.png
END:VEVENT
END:VCALENDAR